BEGIN:VCALENDAR
VERSION:2.0
PRODID:-//Fíonta - ECPv6.15.20//NONSGML v1.0//EN
CALSCALE:GREGORIAN
METHOD:PUBLISH
X-WR-CALNAME:Fíonta
X-ORIGINAL-URL:https://fionta.com
X-WR-CALDESC:Events for Fíonta
REFRESH-INTERVAL;VALUE=DURATION:PT1H
X-Robots-Tag:noindex
X-PUBLISHED-TTL:PT1H
BEGIN:VTIMEZONE
TZID:America/New_York
BEGIN:DAYLIGHT
TZOFFSETFROM:-0500
TZOFFSETTO:-0400
TZNAME:EDT
DTSTART:20250309T070000
END:DAYLIGHT
BEGIN:STANDARD
TZOFFSETFROM:-0400
TZOFFSETTO:-0500
TZNAME:EST
DTSTART:20251102T060000
END:STANDARD
BEGIN:DAYLIGHT
TZOFFSETFROM:-0500
TZOFFSETTO:-0400
TZNAME:EDT
DTSTART:20260308T070000
END:DAYLIGHT
BEGIN:STANDARD
TZOFFSETFROM:-0400
TZOFFSETTO:-0500
TZNAME:EST
DTSTART:20261101T060000
END:STANDARD
BEGIN:DAYLIGHT
TZOFFSETFROM:-0500
TZOFFSETTO:-0400
TZNAME:EDT
DTSTART:20270314T070000
END:DAYLIGHT
BEGIN:STANDARD
TZOFFSETFROM:-0400
TZOFFSETTO:-0500
TZNAME:EST
DTSTART:20271107T060000
END:STANDARD
END:VTIMEZONE
BEGIN:VEVENT
DTSTART;TZID=America/New_York:20260426T080000
DTEND;TZID=America/New_York:20260428T170000
DTSTAMP:20260421T091107
CREATED:20260420T183750Z
LAST-MODIFIED:20260420T184552Z
UID:27272-1777190400-1777395600@fionta.com
SUMMARY:AFP ICON 2026
DESCRIPTION:Join Emily Peck from Fíonta at AFP ICON 2026\, April 26–28 in San Diego! As a Salesforce partner exclusively serving nonprofits since 2006\, we’re excited to connect with the fundraising professionals who rely on the right technology to drive their missions forward. \nWith 190+ sessions covering fundraising’s most pressing challenges\, AFP ICON is the perfect place to explore how your technology\, from Salesforce to your website\, can work harder for your organization. \nAre you ready to talk through your fundraising tech challenges? Click the button below to schedule a quick chat with Emily at the event and discover how Fíonta helps nonprofits turn their digital tools into greater impact. \nMeet with Emily
URL:https://fionta.com/event/afp-icon-2026/
LOCATION:San Diego Convention Center\, 111 W Harbor Dr.\, San Diego\, CA\, 92101\, United States
CATEGORIES:AFP,Nonprofit
ATTACH;FMTTYPE=image/gif:https://fionta.com/wp-content/uploads/2026/04/Hands-with-Heart-Square.gif
END:VEVENT
BEGIN:VEVENT
DTSTART;TZID=America/New_York:20260528T080000
DTEND;TZID=America/New_York:20260529T171500
DTSTAMP:20260421T091107
CREATED:20260420T185516Z
LAST-MODIFIED:20260420T190535Z
UID:27279-1779955200-1780074900@fionta.com
SUMMARY:ASAE MMC + Tech
DESCRIPTION:Join Dan DePuy from Fíonta at ASAE MM&C + Technology Conference this June in Washington\, D.C.! This exciting event brings together association professionals for dynamic days of learning\, networking\, and growth at the intersection of marketing\, membership\, and technology. Dan will be looking forward to meeting you at Booth #602. \nThis year’s conference features educational sessions covering associations’ most pressing challenges in digital strategy\, data-driven decision making\, and emerging technology\, and we can’t wait to be in the room with so many innovators\, reconnecting with familiar faces and forging new relationships along the way. \nWill you be at ASAE MM&C + Tech? We’d love to connect\, whether it’s for a quick introduction or to talk through your association’s technology challenges. Explore how Fíonta can help your association make a greater impact by filling out the form\, and we’ll reach out shortly. \nMeet with Dan
URL:https://fionta.com/event/asae-mmc-tech/
LOCATION:Walter E. Washington Convention Center\, 801 Allen Y. Lew Place NW\, Washington\, DC\, 20001\, United States
CATEGORIES:ASAE,Association,Nonprofit
ATTACH;FMTTYPE=image/jpeg:https://fionta.com/wp-content/uploads/2026/04/iStock-1141500357-e1776376300398.jpg
END:VEVENT
END:VCALENDAR